BEGIN:VCALENDAR
VERSION:2.0
PRODID:-// - ECPv6.5.1.5//NONSGML v1.0//EN
CALSCALE:GREGORIAN
METHOD:PUBLISH
X-ORIGINAL-URL:https://lhache-prise.fr
X-WR-CALDESC:évènements pour 
REFRESH-INTERVAL;VALUE=DURATION:PT1H
X-Robots-Tag:noindex
X-PUBLISHED-TTL:PT1H
BEGIN:VTIMEZONE
TZID:Europe/Paris
BEGIN:DAYLIGHT
TZOFFSETFROM:+0100
TZOFFSETTO:+0200
TZNAME:CEST
DTSTART:20240331T010000
END:DAYLIGHT
BEGIN:STANDARD
TZOFFSETFROM:+0200
TZOFFSETTO:+0100
TZNAME:CET
DTSTART:20241027T010000
END:STANDARD
BEGIN:DAYLIGHT
TZOFFSETFROM:+0100
TZOFFSETTO:+0200
TZNAME:CEST
DTSTART:20250330T010000
END:DAYLIGHT
BEGIN:STANDARD
TZOFFSETFROM:+0200
TZOFFSETTO:+0100
TZNAME:CET
DTSTART:20251026T010000
END:STANDARD
END:VTIMEZONE
BEGIN:VEVENT
DTSTART;TZID=Europe/Paris:20240627T170000
DTEND;TZID=Europe/Paris:20250630T220000
DTSTAMP:20260424T130150
CREATED:20240627T075158Z
LAST-MODIFIED:20250121T123802Z
UID:3368-1719507600-1751320800@lhache-prise.fr
SUMMARY:Soirée lancer de haches et de couteaux à Aulnoy-lez Valenciennes
DESCRIPTION:L’activité insolite à Valenciennes aujourd’hui\nVous cherchez une activité à Valenciennes métropole pour aujourd’hui? Aventurez vous au lancer de couteaux. Comme tous les 3èmes jeudis du mois\, nous organisons une soirée spéciale lancer de couteaux. \nC’est une activité originale à faire en couple ou entre amis. La séance se déroule une heure. \nNos instructeurs vous accompagnent dans l’art ce manier le lancer de couteaux pendant 10 minutes. Vous pourrez ensuite vous entraîner à votre guise en vue de devenir un véritable ninja. \nL’activité se pratique également seul\, mais elle est également idéale pour un moment inoubliable à passer à plusieurs. \nAucune compétence n’est requise. Quoiqu’il arrive vous saurez maîtriser l’art du lancer de couteaux au bout de quelques lancers. \nLa soirée commence à 17h et se termine à 22h. \nVous avez une heure pour vous défouler\, vous dépayser et vivre une expérience exceptionnelle. \n  \n 
URL:https://lhache-prise.fr/evenement/soiree-lancer-de-haches-et-de-couteaux-a-aulnoy-lez-valenciennes
LOCATION:L’hache Prise Valenciennes\, Chem. des Bourgeois\, Aulnoy-Lez-Valenciennes\, 59300\, France
ORGANIZER;CN="L'hache Prise":MAILTO:contactva@lhache-prise.fr
END:VEVENT
BEGIN:VEVENT
DTSTART;TZID=Europe/Paris:20241023T170000
DTEND;TZID=Europe/Paris:20251231T220000
DTSTAMP:20260424T130150
CREATED:20241023T084112Z
LAST-MODIFIED:20250826T122518Z
UID:6172-1729702800-1767218400@lhache-prise.fr
SUMMARY:Le pack Ninja est arrivé! Testez le shuriken et batarang!
DESCRIPTION:Ca y est\, le pack ninja est arrivée!\nLe pack Ninja est désormais disponible dans nos centres à Reims\, Lille\, Caen\, Valenciennes\, Dunkerque. \nRajoutez une dose d’adrénaline à vos séance de lancer de haches pour seulement 2€ supplémentaires au prix de la séance. \nRapprochez-vous de vos instructeurs pour en savoir plus. \nRéservez vos places en ligne \nComment nous trouver? \nCliquez sur le centre de votre choix pour avoir l’itinéraire: \nL’Hache Prise Reims \nL’Hache Prise Valenciennes \nL’Hache Prise Lesquin \nL’Hache Prise Caen \n 
URL:https://lhache-prise.fr/evenement/le-pack-ninja-est-arrive
END:VEVENT
BEGIN:VEVENT
DTSTART;TZID=Europe/Paris:20241101T190000
DTEND;TZID=Europe/Paris:20250331T220000
DTSTAMP:20260424T130150
CREATED:20240910T091926Z
LAST-MODIFIED:20241125T090538Z
UID:5074-1730487600-1743458400@lhache-prise.fr
SUMMARY:Nouvelle activité à Lille\, Valenciennes\,Caen\, Reims: Le lancer de haches dans le noir!
DESCRIPTION:Vous cherchez une activité palpitante à Valenciennes\, Lille ou Caen ? Ne cherchez plus ! L’Hache Prise vous propose une expérience inédite : le lancer de haches dans le noir. Cette nouvelle activité promet de vous offrir des sensations fortes et une montée d’adrénaline inégalée et ce depuis octobre jusque fin février. \nQu’est-ce que le lancer de haches dans le noir ?\nLe lancer de haches est déjà une activité populaire qui combine précision\, force et concentration. Mais chez l’Hache Prise\, nous avons décidé de pousser l’expérience encore plus loin en l’amenant dans le noir. Imaginez-vous en train de viser une cible lumineuse avec comme guide: des lumières UV et des cibles fluorescentes. \nPourquoi choisir l’Hache Prise ?\nL’Hache Prise est un établissement réputé dans le domaine des activités de lancer de haches. Nous avons des centres à Valenciennes\, Lille et Caen\, tous équipés des dernières technologies pour assurer votre sécurité et maximiser votre plaisir. Nos instructeurs qualifiés vous guideront pas à pas\, que vous soyez un débutant ou un expert. \nActivité à Valenciennes\nValenciennes est une ville dynamique avec une riche histoire culturelle. Notre centre de lancer de haches est situé à Aulnoy-lez-Valenciennes\, facilement accessible en transports en commun. Venez découvrir cette nouvelle activité qui fait déjà sensation parmi les habitants de Valenciennes. \nActivité à Lille\nLille\, connue pour son ambiance festive et ses événements culturels\, accueille désormais l’Hache Prise. Notre centre de lancer de haches à Lille est parfait pour une sortie entre amis ou un événement d’entreprise. Testez vos compétences dans un cadre unique et stimulant. \nActivité à Caen\nCaen\, ville historique de Normandie\, n’est pas en reste. Notre centre de lancer de haches à Mondeville vous propose une expérience hors du commun. Que vous soyez en vacances ou résident\, cette activité ajoutera une touche d’aventure à votre quotidien. \nComment réserver ?\nRéserver votre session de lancer de haches dans le noir est simple et rapide. Rendez-vous sur notre site web\, choisissez votre ville (Valenciennes\, Lille ou Caen)\, et sélectionnez la date et l’heure qui vous conviennent. Vous recevrez une confirmation par email avec toutes les informations nécessaires. \nConclusion\nLe lancer de haches dans le noir chez l’Hache Prise est une activité unique qui combine sport\, divertissement et défi. Que vous soyez à Valenciennes\, Lille ou Caen\, venez vivre cette expérience inoubliable. N’attendez plus\, réservez dès maintenant et préparez-vous à une aventure hors du commun ! \nPour plus d’informations\, n’hésitez pas à nous contacter ou à visiter notre site web. \nNous avons hâte de vous accueillir chez l’Hache Prise ! \nEn attendant\, suivez nous sur Instagram! \nRéservez vos places en ligne \nComment nous trouver? \nCliquez sur le centre de votre choix pour avoir l’itinéraire: \nL’Hache Prise Reims \nL’Hache Prise Valenciennes \nL’Hache Prise Lesquin \nL’Hache Prise Caen
URL:https://lhache-prise.fr/evenement/nouvelle-activite-a-valenciennes-lille-et-caen
END:VEVENT
BEGIN:VEVENT
DTSTART;TZID=Europe/Paris:20241114T190000
DTEND;TZID=Europe/Paris:20251231T200000
DTSTAMP:20260424T130150
CREATED:20241114T102434Z
LAST-MODIFIED:20250826T122437Z
UID:6864-1731610800-1767211200@lhache-prise.fr
SUMMARY:Afterworks les jeudis
DESCRIPTION:[Le programme de la semaine]-Rencontre avec la #team\, session de lancer de haches et apéro \n  \nVous vous demandez que faire cette semaine? Vous êtes seul ou à plusieurs? Participez à nos speed meetings! \nAu programme: rencontre avec la #team et initiation au lancer de haches autour d’un apéro. \n  \n⌚Quand: un jeudi par mois à partir de 19h \n🕐Durée: 1-2h selon le temps que vous avez \n🧑‍🤝‍🧑Avec qui?: les proches que vous souhaitez ou seul. Vous rencontrerez des personnes qui vous ressemble sur place 😉 \n  \nComment s’inscrire? \nRéservez vos places en ligne . Choisissez la date et le créneau. \nComment nous trouver? \nCliquez sur le centre de votre choix pour avoir l’itinéraire: \nL’Hache Prise Reims \nL’Hache Prise Valenciennes \nL’Hache Prise Lesquin \nL’Hache Prise Caen \n 
URL:https://lhache-prise.fr/evenement/afterworks-et-meetups-tous-les-soirs-en-semaine
END:VEVENT
END:VCALENDAR